BEGIN:VCALENDAR
VERSION:2.0
PRODID:-//Charleston Symphony Chorus - ECPv6.15.20//NONSGML v1.0//EN
CALSCALE:GREGORIAN
METHOD:PUBLISH
X-ORIGINAL-URL:https://charlestonsymphonychorus.org
X-WR-CALDESC:Events for Charleston Symphony Chorus
REFRESH-INTERVAL;VALUE=DURATION:PT1H
X-Robots-Tag:noindex
X-PUBLISHED-TTL:PT1H
BEGIN:VTIMEZONE
TZID:America/New_York
BEGIN:DAYLIGHT
TZOFFSETFROM:-0500
TZOFFSETTO:-0400
TZNAME:EDT
DTSTART:20160313T070000
END:DAYLIGHT
BEGIN:STANDARD
TZOFFSETFROM:-0400
TZOFFSETTO:-0500
TZNAME:EST
DTSTART:20161106T060000
END:STANDARD
BEGIN:DAYLIGHT
TZOFFSETFROM:-0500
TZOFFSETTO:-0400
TZNAME:EDT
DTSTART:20170312T070000
END:DAYLIGHT
BEGIN:STANDARD
TZOFFSETFROM:-0400
TZOFFSETTO:-0500
TZNAME:EST
DTSTART:20171105T060000
END:STANDARD
BEGIN:DAYLIGHT
TZOFFSETFROM:-0500
TZOFFSETTO:-0400
TZNAME:EDT
DTSTART:20180311T070000
END:DAYLIGHT
BEGIN:STANDARD
TZOFFSETFROM:-0400
TZOFFSETTO:-0500
TZNAME:EST
DTSTART:20181104T060000
END:STANDARD
BEGIN:DAYLIGHT
TZOFFSETFROM:-0500
TZOFFSETTO:-0400
TZNAME:EDT
DTSTART:20190310T070000
END:DAYLIGHT
BEGIN:STANDARD
TZOFFSETFROM:-0400
TZOFFSETTO:-0500
TZNAME:EST
DTSTART:20191103T060000
END:STANDARD
BEGIN:DAYLIGHT
TZOFFSETFROM:-0500
TZOFFSETTO:-0400
TZNAME:EDT
DTSTART:20200308T070000
END:DAYLIGHT
BEGIN:STANDARD
TZOFFSETFROM:-0400
TZOFFSETTO:-0500
TZNAME:EST
DTSTART:20201101T060000
END:STANDARD
END:VTIMEZONE
BEGIN:VTIMEZONE
TZID:America/New_York
BEGIN:DAYLIGHT
TZOFFSETFROM:-0500
TZOFFSETTO:-0400
TZNAME:EDT
DTSTART:20170312T070000
END:DAYLIGHT
BEGIN:STANDARD
TZOFFSETFROM:-0400
TZOFFSETTO:-0500
TZNAME:EST
DTSTART:20171105T060000
END:STANDARD
BEGIN:DAYLIGHT
TZOFFSETFROM:-0500
TZOFFSETTO:-0400
TZNAME:EDT
DTSTART:20180311T070000
END:DAYLIGHT
BEGIN:STANDARD
TZOFFSETFROM:-0400
TZOFFSETTO:-0500
TZNAME:EST
DTSTART:20181104T060000
END:STANDARD
BEGIN:DAYLIGHT
TZOFFSETFROM:-0500
TZOFFSETTO:-0400
TZNAME:EDT
DTSTART:20190310T070000
END:DAYLIGHT
BEGIN:STANDARD
TZOFFSETFROM:-0400
TZOFFSETTO:-0500
TZNAME:EST
DTSTART:20191103T060000
END:STANDARD
END:VTIMEZONE
BEGIN:VEVENT
DTSTART;TZID=America/New_York:20191221T193000
DTEND;TZID=America/New_York:20191221T193000
DTSTAMP:20260420T005058
CREATED:20190817T213725Z
LAST-MODIFIED:20190817T213725Z
UID:10000417-1576956600-1576956600@charlestonsymphonychorus.org
SUMMARY:Pops 2 - Holiday Pops
DESCRIPTION:The Charleston Symphony Chorus will be performing the following: \n\nRandol Alan Bass “Gloria”\nRobert Shaw\, arr. Robert Russell Bennett “Many Moods of Christmas Suite 1”\nJagoda/Jacobson “Ocho Kandelikas”\nHandel “Hallelujah Chorus” from Messiah\nBill Holcombe “Santa Claus Is Coming to Town”\nRutter “12 Days of Christmas”\nWillcocks carols: “First Noel” and “Hark! The Herald Angels Sing”\nHuff “We Wish you a Merry Christmas“\n\nMore Info Buy Tickets
URL:https://charlestonsymphonychorus.org/event/pops-2-holiday-pops-2/
LOCATION:The Gaillard Center\, 95 Calhoun St\, Charleston\, 29401\, United States
CATEGORIES:Holiday Pops
ATTACH;FMTTYPE=image/jpeg:https://charlestonsymphonychorus.org/wp-content/uploads/2018/08/Holiday_Pops_1_rob7ad.jpg
GEO:32.7868228;-79.9309821
X-APPLE-STRUCTURED-LOCATION;VALUE=URI;X-ADDRESS=The Gaillard Center 95 Calhoun St Charleston 29401 United States;X-APPLE-RADIUS=500;X-TITLE=95 Calhoun St:geo:-79.9309821,32.7868228
END:VEVENT
BEGIN:VEVENT
DTSTART;TZID=America/New_York:20191220T193000
DTEND;TZID=America/New_York:20191220T193000
DTSTAMP:20260420T005058
CREATED:20190817T213513Z
LAST-MODIFIED:20190817T213513Z
UID:10000416-1576870200-1576870200@charlestonsymphonychorus.org
SUMMARY:Pops 2 - Holiday Pops
DESCRIPTION:The Charleston Symphony Chorus will be performing the following: \n\nRandol Alan Bass “Gloria”\nRobert Shaw\, arr. Robert Russell Bennett “Many Moods of Christmas Suite 1”\nJagoda/Jacobson “Ocho Kandelikas”\nHandel “Hallelujah Chorus” from Messiah\nBill Holcombe “Santa Claus Is Coming to Town”\nRutter “12 Days of Christmas”\nWillcocks carols: “First Noel” and “Hark! The Herald Angels Sing”\nHuff “We Wish you a Merry Christmas“\n\nMore Info  Buy Tickets
URL:https://charlestonsymphonychorus.org/event/pops-2-holiday-pops/
LOCATION:The Gaillard Center\, 95 Calhoun St\, Charleston\, 29401\, United States
CATEGORIES:Holiday Pops
ATTACH;FMTTYPE=image/jpeg:https://charlestonsymphonychorus.org/wp-content/uploads/2018/08/Holiday_Pops_1_rob7ad.jpg
GEO:32.7868228;-79.9309821
X-APPLE-STRUCTURED-LOCATION;VALUE=URI;X-ADDRESS=The Gaillard Center 95 Calhoun St Charleston 29401 United States;X-APPLE-RADIUS=500;X-TITLE=95 Calhoun St:geo:-79.9309821,32.7868228
END:VEVENT
BEGIN:VEVENT
DTSTART;TZID=America/New_York:20191123T193000
DTEND;TZID=America/New_York:20191123T193000
DTSTAMP:20260420T005058
CREATED:20190817T204915Z
LAST-MODIFIED:20190817T204915Z
UID:10000411-1574537400-1574537400@charlestonsymphonychorus.org
SUMMARY:Masterworks 3
DESCRIPTION:The Charleston Symphony Chorus will be performing the following: \nFaure’s “Requiem” \nParry’s “Jerusalem” \n  \nMore Info Buy Tickets
URL:https://charlestonsymphonychorus.org/event/masterworks-3-2/
LOCATION:The Gaillard Center\, 95 Calhoun St\, Charleston\, 29401\, United States
CATEGORIES:Masterworks
ATTACH;FMTTYPE=image/jpeg:https://charlestonsymphonychorus.org/wp-content/uploads/2017/03/cso_csochorus.jpg
GEO:32.7868228;-79.9309821
X-APPLE-STRUCTURED-LOCATION;VALUE=URI;X-ADDRESS=The Gaillard Center 95 Calhoun St Charleston 29401 United States;X-APPLE-RADIUS=500;X-TITLE=95 Calhoun St:geo:-79.9309821,32.7868228
END:VEVENT
BEGIN:VEVENT
DTSTART;TZID=America/New_York:20191122T193000
DTEND;TZID=America/New_York:20191122T193000
DTSTAMP:20260420T005058
CREATED:20190817T204606Z
LAST-MODIFIED:20190817T204606Z
UID:10000410-1574451000-1574451000@charlestonsymphonychorus.org
SUMMARY:Masterworks 3
DESCRIPTION:The Charleston Symphony Chorus will be performing the following: \nFaure’s “Requiem” \nParry’s “Jerusalem” \n  \nMore Info  Buy Tickets
URL:https://charlestonsymphonychorus.org/event/masterworks-3/
LOCATION:The Gaillard Center\, 95 Calhoun St\, Charleston\, 29401\, United States
CATEGORIES:Masterworks
ATTACH;FMTTYPE=image/jpeg:https://charlestonsymphonychorus.org/wp-content/uploads/2017/03/cso_csochorus.jpg
GEO:32.7868228;-79.9309821
X-APPLE-STRUCTURED-LOCATION;VALUE=URI;X-ADDRESS=The Gaillard Center 95 Calhoun St Charleston 29401 United States;X-APPLE-RADIUS=500;X-TITLE=95 Calhoun St:geo:-79.9309821,32.7868228
END:VEVENT
BEGIN:VEVENT
DTSTART;TZID=America/New_York:20191012T193000
DTEND;TZID=America/New_York:20191012T193000
DTSTAMP:20260420T005058
CREATED:20190817T203735Z
LAST-MODIFIED:20190817T203735Z
UID:10000313-1570908600-1570908600@charlestonsymphonychorus.org
SUMMARY:Music of the Movies
DESCRIPTION:The Charleston Symphony Chorus will be performing the following: \n“O Fortuna” from Carmina Burana by Orff \n“Nimrod” from Enigma Variations by Elgar \n“Introitus\,” “Dies Irae\,” and “Confutatis” from Mozart’s Requiem \n“Hymn for the Fallen” from Saving Private Ryan by Williams \n“Dry Your Tears Afrika” from Amistad by Williams \n  \nBuy Tickets  More Info
URL:https://charlestonsymphonychorus.org/event/music-of-the-movies/
LOCATION:The Gaillard Center\, 95 Calhoun St\, Charleston\, 29401\, United States
CATEGORIES:Pops
ATTACH;FMTTYPE=image/jpeg:https://charlestonsymphonychorus.org/wp-content/uploads/2019/08/bowl-cinema-close-up.jpg
GEO:32.7868228;-79.9309821
X-APPLE-STRUCTURED-LOCATION;VALUE=URI;X-ADDRESS=The Gaillard Center 95 Calhoun St Charleston 29401 United States;X-APPLE-RADIUS=500;X-TITLE=95 Calhoun St:geo:-79.9309821,32.7868228
END:VEVENT
BEGIN:VEVENT
DTSTART;TZID=America/New_York:20190604T193000
DTEND;TZID=America/New_York:20190604T214500
DTSTAMP:20260420T005058
CREATED:20190212T015012Z
LAST-MODIFIED:20190212T015012Z
UID:10000312-1559676600-1559684700@charlestonsymphonychorus.org
SUMMARY:Spoleto 2019 - St John Passion
DESCRIPTION:Music by Johann Sebastian Bach\nSpoleto Festival USA Orchestra\nWestminster Choir\nCharleston Symphony Orchestra Chorus\nConducted by Joe Miller \nMore Info   Buy tickets
URL:https://charlestonsymphonychorus.org/event/spoleto-2019-st-john-passion/
LOCATION:The Gaillard Center\, 95 Calhoun St\, Charleston\, 29401\, United States
CATEGORIES:Spoleto
ATTACH;FMTTYPE=image/jpeg:https://charlestonsymphonychorus.org/wp-content/uploads/2017/08/2017MozartsGreatMass_web1.jpeg
GEO:32.7868228;-79.9309821
X-APPLE-STRUCTURED-LOCATION;VALUE=URI;X-ADDRESS=The Gaillard Center 95 Calhoun St Charleston 29401 United States;X-APPLE-RADIUS=500;X-TITLE=95 Calhoun St:geo:-79.9309821,32.7868228
END:VEVENT
BEGIN:VEVENT
DTSTART;TZID=America/New_York:20190330T193000
DTEND;TZID=America/New_York:20190330T210000
DTSTAMP:20260420T005058
CREATED:20180825T173729Z
LAST-MODIFIED:20180825T173729Z
UID:10000379-1553974200-1553979600@charlestonsymphonychorus.org
SUMMARY:Mozart's Requiem
DESCRIPTION:The CSO Chorus joins the Charleston Symphony for a monumental rendition of Mozart’s Requiem\, the final composition of Mozart’s life\, and one of the most famous works ever written. Requiem was commissioned by an anonymous patron who attempted to keep his identity secret because he was planning to pass Mozart’s work off as his own. Mozart worked on the piece up until the day of his death—even rehearsing various choral parts with friends while in bed only hours before he died. \nBuy tickets \n 
URL:https://charlestonsymphonychorus.org/event/mozarts-requiem-2019-03-30/
LOCATION:The Gaillard Center\, 95 Calhoun St\, Charleston\, 29401\, United States
CATEGORIES:Masterworks
ATTACH;FMTTYPE=image/jpeg:https://charlestonsymphonychorus.org/wp-content/uploads/2017/08/IMG_8691.jpg
GEO:32.7868228;-79.9309821
X-APPLE-STRUCTURED-LOCATION;VALUE=URI;X-ADDRESS=The Gaillard Center 95 Calhoun St Charleston 29401 United States;X-APPLE-RADIUS=500;X-TITLE=95 Calhoun St:geo:-79.9309821,32.7868228
END:VEVENT
BEGIN:VEVENT
DTSTART;TZID=America/New_York:20190329T193000
DTEND;TZID=America/New_York:20190329T210000
DTSTAMP:20260420T005058
CREATED:20180825T173729Z
LAST-MODIFIED:20180825T173729Z
UID:10000289-1553887800-1553893200@charlestonsymphonychorus.org
SUMMARY:Mozart's Requiem
DESCRIPTION:The CSO Chorus joins the Charleston Symphony for a monumental rendition of Mozart’s Requiem\, the final composition of Mozart’s life\, and one of the most famous works ever written. Requiem was commissioned by an anonymous patron who attempted to keep his identity secret because he was planning to pass Mozart’s work off as his own. Mozart worked on the piece up until the day of his death—even rehearsing various choral parts with friends while in bed only hours before he died. \nBuy tickets \n 
URL:https://charlestonsymphonychorus.org/event/mozarts-requiem/
LOCATION:The Gaillard Center\, 95 Calhoun St\, Charleston\, 29401\, United States
CATEGORIES:Masterworks
ATTACH;FMTTYPE=image/jpeg:https://charlestonsymphonychorus.org/wp-content/uploads/2017/08/IMG_8691.jpg
GEO:32.7868228;-79.9309821
X-APPLE-STRUCTURED-LOCATION;VALUE=URI;X-ADDRESS=The Gaillard Center 95 Calhoun St Charleston 29401 United States;X-APPLE-RADIUS=500;X-TITLE=95 Calhoun St:geo:-79.9309821,32.7868228
END:VEVENT
BEGIN:VEVENT
DTSTART;TZID=America/New_York:20181222T193000
DTEND;TZID=America/New_York:20181222T213000
DTSTAMP:20260420T005058
CREATED:20180825T170549Z
LAST-MODIFIED:20180825T170549Z
UID:10000286-1545507000-1545514200@charlestonsymphonychorus.org
SUMMARY:Holiday Pops
DESCRIPTION:Join the CSO and CSO Chorus for our annual celebration of holiday favorites! Principal Pops Conductor\, Yuriy Bekker\, leads this family friendly holiday tradition\, featuring classics like Bach’s Christmas Oratorio and Bizet’s Farandole\, as well as hits like Sleigh Ride\, Jingle Bell Rock\, and the CSO’s special rendition of The 12 Days of Christmas! \nBuy Tickets
URL:https://charlestonsymphonychorus.org/event/holiday-pops-7/
LOCATION:The Gaillard Center\, 95 Calhoun St\, Charleston\, 29401\, United States
CATEGORIES:Holiday Pops
ATTACH;FMTTYPE=image/jpeg:https://charlestonsymphonychorus.org/wp-content/uploads/2018/08/Holiday_Pops_1_rob7ad.jpg
GEO:32.7868228;-79.9309821
X-APPLE-STRUCTURED-LOCATION;VALUE=URI;X-ADDRESS=The Gaillard Center 95 Calhoun St Charleston 29401 United States;X-APPLE-RADIUS=500;X-TITLE=95 Calhoun St:geo:-79.9309821,32.7868228
END:VEVENT
BEGIN:VEVENT
DTSTART;TZID=America/New_York:20181117T193000
DTEND;TZID=America/New_York:20181117T213000
DTSTAMP:20260420T005058
CREATED:20180825T025249Z
LAST-MODIFIED:20180825T025249Z
UID:10000282-1542483000-1542490200@charlestonsymphonychorus.org
SUMMARY:Benjamin Britten’s  Saint Nicolas
DESCRIPTION:Benjamin Britten wrote the cantata Saint Nicolas in 1948 for the centennial celebrations of Lancing College in Sussex. Writing specifically for the resources available to him on this occasion\, Britten scored the piece for mixed choir\, tenor soloist\, three or four boys\, strings\, piano duet\, organ and percussion. Within this ensemble\, the only professional musicians required were the tenor soloist\, a string quartet to lead the other strings\, and the percussionists. Saint Nicolas marks Britten’s first professional work intended primarily for performance by amateur musicians. Now the cantata is frequently performed by youth and amateur ensembles. While the piece was written for Lancing College\, the first performance was actually\, with the College’s permission\, the opening concert of the first Aldeburgh Festival in June 1948\, when it was performed in Aldeburgh Church. (Source) \nBUY TICKETS
URL:https://charlestonsymphonychorus.org/event/benjamin-brittens-saint-nicolas-2018-11-17/
LOCATION:The Gaillard Center\, 95 Calhoun St\, Charleston\, 29401\, United States
CATEGORIES:Masterworks
ATTACH;FMTTYPE=image/jpeg:https://charlestonsymphonychorus.org/wp-content/uploads/2017/03/IMG_7913.jpg
GEO:32.7868228;-79.9309821
X-APPLE-STRUCTURED-LOCATION;VALUE=URI;X-ADDRESS=The Gaillard Center 95 Calhoun St Charleston 29401 United States;X-APPLE-RADIUS=500;X-TITLE=95 Calhoun St:geo:-79.9309821,32.7868228
END:VEVENT
BEGIN:VEVENT
DTSTART;TZID=America/New_York:20181116T193000
DTEND;TZID=America/New_York:20181116T213000
DTSTAMP:20260420T005058
CREATED:20180825T025249Z
LAST-MODIFIED:20180825T025249Z
UID:10000281-1542396600-1542403800@charlestonsymphonychorus.org
SUMMARY:Benjamin Britten’s  Saint Nicolas
DESCRIPTION:Benjamin Britten wrote the cantata Saint Nicolas in 1948 for the centennial celebrations of Lancing College in Sussex. Writing specifically for the resources available to him on this occasion\, Britten scored the piece for mixed choir\, tenor soloist\, three or four boys\, strings\, piano duet\, organ and percussion. Within this ensemble\, the only professional musicians required were the tenor soloist\, a string quartet to lead the other strings\, and the percussionists. Saint Nicolas marks Britten’s first professional work intended primarily for performance by amateur musicians. Now the cantata is frequently performed by youth and amateur ensembles. While the piece was written for Lancing College\, the first performance was actually\, with the College’s permission\, the opening concert of the first Aldeburgh Festival in June 1948\, when it was performed in Aldeburgh Church. (Source) \nBUY TICKETS
URL:https://charlestonsymphonychorus.org/event/benjamin-brittens-saint-nicolas/
LOCATION:The Gaillard Center\, 95 Calhoun St\, Charleston\, 29401\, United States
CATEGORIES:Masterworks,Performances
ATTACH;FMTTYPE=image/jpeg:https://charlestonsymphonychorus.org/wp-content/uploads/2017/03/IMG_7913.jpg
GEO:32.7868228;-79.9309821
X-APPLE-STRUCTURED-LOCATION;VALUE=URI;X-ADDRESS=The Gaillard Center 95 Calhoun St Charleston 29401 United States;X-APPLE-RADIUS=500;X-TITLE=95 Calhoun St:geo:-79.9309821,32.7868228
END:VEVENT
BEGIN:VEVENT
DTSTART;TZID=America/New_York:20180605T193000
DTEND;TZID=America/New_York:20180605T213000
DTSTAMP:20260420T005058
CREATED:20180825T211343Z
LAST-MODIFIED:20180825T211343Z
UID:10000310-1528227000-1528234200@charlestonsymphonychorus.org
SUMMARY:Spoleto 2018 - Brahms’ German Requiem
DESCRIPTION:Ein Deutsches Requiem conducted by Joe Miller \nMore info and tickets
URL:https://charlestonsymphonychorus.org/event/spoleto-2018-brahms-german-requiem/
LOCATION:The Gaillard Center\, 95 Calhoun St\, Charleston\, 29401\, United States
CATEGORIES:Spoleto
ATTACH;FMTTYPE=image/jpeg:https://charlestonsymphonychorus.org/wp-content/uploads/2017/08/2017MozartsGreatMass_web1.jpeg
GEO:32.7868228;-79.9309821
X-APPLE-STRUCTURED-LOCATION;VALUE=URI;X-ADDRESS=The Gaillard Center 95 Calhoun St Charleston 29401 United States;X-APPLE-RADIUS=500;X-TITLE=95 Calhoun St:geo:-79.9309821,32.7868228
END:VEVENT
BEGIN:VEVENT
DTSTART;TZID=America/New_York:20180421T193000
DTEND;TZID=America/New_York:20180421T213000
DTSTAMP:20260420T005058
CREATED:20170806T033318Z
LAST-MODIFIED:20170806T033318Z
UID:10000311-1524339000-1524346200@charlestonsymphonychorus.org
SUMMARY:Carmina Burana
DESCRIPTION:This exciting performance of Carmina Burana will feature 150 singers from the Charleston Symphony Orchestra Chorus and Charleston Children’s Chorus\, 70 plus musicians from the Charleston Symphony Orchestra\, and three guest vocalists alongside 28 dancers from the Nashville Ballet. Based on a collection of poems written by clergy and theology students in the 11th\, 12th and 13th centuries\, Carmina Burana examines love\, fortune and the cycle of life. \nThe ballet is set to the iconic music of German composer Carl Orff written in the 1930s. The opening piece\, “O Fortuna”\, has made its mark as one of the most recognizable pieces of music in the world. “The music is magnificent on its own\, but when paired with dance it creates an almost spiritual experience. The ballet explores humanity’s highs and lows\, and ultimately the role that sheer fortune plays in our lives. The music mimics the theme of the entire work—it circles back to end where it all begins.” – Paul Vasterling\, Artistic Director and CEO. \nNashville Ballet\nNashville Ballet is the largest professional ballet company in Tennessee. Nashville Ballet presents a varied repertoire of classical ballet and contemporary works by noted choreographers\, including original works by Artistic Director & CEO\, Paul Vasterling. \nbuy tickets
URL:https://charlestonsymphonychorus.org/event/carmina-burana-2018-04-21/
LOCATION:The Gaillard Center\, 95 Calhoun St\, Charleston\, 29401\, United States
CATEGORIES:Special Event
ATTACH;FMTTYPE=image/jpeg:https://charlestonsymphonychorus.org/wp-content/uploads/2017/08/Carmina_3_Low_Res.jpg
GEO:32.7868228;-79.9309821
X-APPLE-STRUCTURED-LOCATION;VALUE=URI;X-ADDRESS=The Gaillard Center 95 Calhoun St Charleston 29401 United States;X-APPLE-RADIUS=500;X-TITLE=95 Calhoun St:geo:-79.9309821,32.7868228
END:VEVENT
BEGIN:VEVENT
DTSTART;TZID=America/New_York:20180420T193000
DTEND;TZID=America/New_York:20180420T213000
DTSTAMP:20260420T005058
CREATED:20170806T033318Z
LAST-MODIFIED:20170806T033318Z
UID:10000280-1524252600-1524259800@charlestonsymphonychorus.org
SUMMARY:Carmina Burana
DESCRIPTION:This exciting performance of Carmina Burana will feature 150 singers from the Charleston Symphony Orchestra Chorus and Charleston Children’s Chorus\, 70 plus musicians from the Charleston Symphony Orchestra\, and three guest vocalists alongside 28 dancers from the Nashville Ballet. Based on a collection of poems written by clergy and theology students in the 11th\, 12th and 13th centuries\, Carmina Burana examines love\, fortune and the cycle of life. \nThe ballet is set to the iconic music of German composer Carl Orff written in the 1930s. The opening piece\, “O Fortuna”\, has made its mark as one of the most recognizable pieces of music in the world. “The music is magnificent on its own\, but when paired with dance it creates an almost spiritual experience. The ballet explores humanity’s highs and lows\, and ultimately the role that sheer fortune plays in our lives. The music mimics the theme of the entire work—it circles back to end where it all begins.” – Paul Vasterling\, Artistic Director and CEO. \nNashville Ballet\nNashville Ballet is the largest professional ballet company in Tennessee. Nashville Ballet presents a varied repertoire of classical ballet and contemporary works by noted choreographers\, including original works by Artistic Director & CEO\, Paul Vasterling. \nbuy tickets
URL:https://charlestonsymphonychorus.org/event/carmina-burana/
LOCATION:The Gaillard Center\, 95 Calhoun St\, Charleston\, 29401\, United States
CATEGORIES:Special Event
ATTACH;FMTTYPE=image/jpeg:https://charlestonsymphonychorus.org/wp-content/uploads/2017/08/Carmina_3_Low_Res.jpg
GEO:32.7868228;-79.9309821
X-APPLE-STRUCTURED-LOCATION;VALUE=URI;X-ADDRESS=The Gaillard Center 95 Calhoun St Charleston 29401 United States;X-APPLE-RADIUS=500;X-TITLE=95 Calhoun St:geo:-79.9309821,32.7868228
END:VEVENT
BEGIN:VEVENT
DTSTART;TZID=America/New_York:20180310T193000
DTEND;TZID=America/New_York:20180310T213000
DTSTAMP:20260420T005058
CREATED:20170806T032727Z
LAST-MODIFIED:20170806T032727Z
UID:10000378-1520710200-1520717400@charlestonsymphonychorus.org
SUMMARY:Pops 3 - Celebrate L’Italia!
DESCRIPTION:The CSO celebrates everything Italian! Let the CSO whisk you away to the opulent\, rich\, and fun culture of Italy through its incredible music. \n  \nBUY TICKETS
URL:https://charlestonsymphonychorus.org/event/pops-3-celebrate-litalia/
LOCATION:The Gaillard Center\, 95 Calhoun St\, Charleston\, 29401\, United States
CATEGORIES:Special Event
ATTACH;FMTTYPE=image/jpeg:https://charlestonsymphonychorus.org/wp-content/uploads/2017/09/venice-grand-canal-water-boats-161907.jpeg
GEO:32.7868228;-79.9309821
X-APPLE-STRUCTURED-LOCATION;VALUE=URI;X-ADDRESS=The Gaillard Center 95 Calhoun St Charleston 29401 United States;X-APPLE-RADIUS=500;X-TITLE=95 Calhoun St:geo:-79.9309821,32.7868228
END:VEVENT
BEGIN:VEVENT
DTSTART;TZID=America/New_York:20171216T193000
DTEND;TZID=America/New_York:20171216T213000
DTSTAMP:20260420T005058
CREATED:20170806T032246Z
LAST-MODIFIED:20170806T032246Z
UID:10000374-1513452600-1513459800@charlestonsymphonychorus.org
SUMMARY:Holiday Pops
DESCRIPTION:Festive fun for the whole family! Join the CSO and the CSO Chorus for our annual holiday celebration! Principal Pops Conductor\, Yuriy Bekker\, leads this family-friendly holiday tradition that will feature “White Christmas\,” “Klezmer Nutcracker\,” “Ave Maria\,” “12 Days of Christmas” (CSO-style)\, Leroy Anderson’s “Sleigh Ride” and many more sing-along favorites. The Charleston Children’s Chorus joins us\, as well as special surprise appearances. \nBuy Tickets
URL:https://charlestonsymphonychorus.org/event/holiday-pops-8/
LOCATION:95 Calhoun St\, Charleston\, 29401\, United States
CATEGORIES:Holiday Pops
ATTACH;FMTTYPE=image/jpeg:https://charlestonsymphonychorus.org/wp-content/uploads/2017/09/2010Hol_stage_festive_cr_580px.jpg
END:VEVENT
BEGIN:VEVENT
DTSTART;TZID=America/New_York:20171118T193000
DTEND;TZID=America/New_York:20171118T213000
DTSTAMP:20260420T005058
CREATED:20170806T024318Z
LAST-MODIFIED:20170806T024318Z
UID:10000369-1511033400-1511040600@charlestonsymphonychorus.org
SUMMARY:Ralph Vaughn Williams - Toward the Unknown Region
DESCRIPTION:Program \nRalph Vaughan Williams\nFantasia on a Theme by Thomas Tallis    \nRalph Vaughan Williams\nToward the Unknown Region \nAnton Bruckner\nSymphony No. 2 in C minor \nPre-concert conversations by the Assistant Conductor are held from 6:30-7:00pm prior to each Masterworks performance from the stage. \nBuy tickets – NOV 17  Buy tickets – NOV 18
URL:https://charlestonsymphonychorus.org/event/ralph-vaughn-williams-toward-the-unknown-region-2/
LOCATION:The Gaillard Center\, 95 Calhoun St\, Charleston\, 29401\, United States
CATEGORIES:Masterworks
ATTACH;FMTTYPE=image/jpeg:https://charlestonsymphonychorus.org/wp-content/uploads/2017/03/IMG_2356.jpg
GEO:32.7868228;-79.9309821
X-APPLE-STRUCTURED-LOCATION;VALUE=URI;X-ADDRESS=The Gaillard Center 95 Calhoun St Charleston 29401 United States;X-APPLE-RADIUS=500;X-TITLE=95 Calhoun St:geo:-79.9309821,32.7868228
END:VEVENT
BEGIN:VEVENT
DTSTART;TZID=America/New_York:20171117T213000
DTEND;TZID=America/New_York:20171117T213000
DTSTAMP:20260420T005058
CREATED:20170806T024100Z
LAST-MODIFIED:20170806T024100Z
UID:10000368-1510954200-1510954200@charlestonsymphonychorus.org
SUMMARY:Ralph Vaughn Williams - Toward the Unknown Region
DESCRIPTION:Program \nRalph Vaughan Williams\nFantasia on a Theme by Thomas Tallis    \nRalph Vaughan Williams\nToward the Unknown Region \nAnton Bruckner\nSymphony No. 2 in C minor \nPre-concert conversations by the Assistant Conductor are held from 6:30-7:00pm prior to each Masterworks performance from the stage. \nBuy tickets – NOV 17  Buy tickets – NOV 18
URL:https://charlestonsymphonychorus.org/event/ralph-vaughn-williams-toward-the-unknown-region/
LOCATION:The Gaillard Center\, 95 Calhoun St\, Charleston\, 29401\, United States
CATEGORIES:Masterworks
ATTACH;FMTTYPE=image/jpeg:https://charlestonsymphonychorus.org/wp-content/uploads/2017/03/IMG_2356.jpg
GEO:32.7868228;-79.9309821
X-APPLE-STRUCTURED-LOCATION;VALUE=URI;X-ADDRESS=The Gaillard Center 95 Calhoun St Charleston 29401 United States;X-APPLE-RADIUS=500;X-TITLE=95 Calhoun St:geo:-79.9309821,32.7868228
END:VEVENT
END:VCALENDAR